BEGIN:VCALENDAR
VERSION:2.0
PRODID:-//nebraskakofc.org//NONSGML kigkonsult.se iCalcreator 2.30.10//
CALSCALE:GREGORIAN
METHOD:PUBLISH
UID:0529eaf9-8da6-41cc-9cc5-2247d4a577c3
X-WR-CALDESC:
X-WR-RELCALID:9c19e62cc50c47ef2a00082447167eae
X-WR-TIMEZONE:America/Chicago
BEGIN:VTIMEZONE
TZID:America/Chicago
BEGIN:STANDARD
TZNAME:CST
DTSTART:20201101T020000
TZOFFSETFROM:-0500
TZOFFSETTO:-0600
RDATE:20211107T020000
RDATE:20221106T020000
END:STANDARD
BEGIN:DAYLIGHT
TZNAME:CDT
DTSTART:20210314T020000
TZOFFSETFROM:-0600
TZOFFSETTO:-0500
RDATE:20220313T020000
END:DAYLIGHT
END:VTIMEZONE
BEGIN:VEVENT
UID:293b3d98-b0c5-4b3b-ae27-d3be8dc8f31f
DTSTAMP:20260425T103720Z
DESCRIPTION:
DTSTART;TZID=America/Chicago:20210801T000000
DTEND;TZID=America/Chicago:20210801T235900
LOCATION:
SUMMARY:Ordering Deadline for Tootsie Rolls & collection canisters
END:VEVENT
END:VCALENDAR
