BEGIN:VCALENDAR
VERSION:2.0
PRODID:-//nebraskakofc.org//NONSGML kigkonsult.se iCalcreator 2.30.10//
CALSCALE:GREGORIAN
METHOD:PUBLISH
UID:1f4b023d-bba8-49d2-8c82-901427c05f98
X-WR-CALDESC:
X-WR-RELCALID:42b6628a13dca5ca8f771509648171a1
X-WR-TIMEZONE:America/Chicago
BEGIN:VTIMEZONE
TZID:America/Chicago
BEGIN:STANDARD
TZNAME:CST
DTSTART:20211107T020000
TZOFFSETFROM:-0500
TZOFFSETTO:-0600
RDATE:20221106T020000
END:STANDARD
BEGIN:DAYLIGHT
TZNAME:CDT
DTSTART:20210314T020000
TZOFFSETFROM:-0600
TZOFFSETTO:-0500
RDATE:20220313T020000
RDATE:20230312T020000
END:DAYLIGHT
END:VTIMEZONE
BEGIN:VEVENT
UID:f7ee70cb-8f76-4559-a082-2ca793277eae
DTSTAMP:20260424T004836Z
DESCRIPTION:
DTSTART;TZID=America/Chicago:20220131T000000
DTEND;TZID=America/Chicago:20220131T235900
LOCATION:
SUMMARY:Intellectual Disabilities Report & Funds Due Date
END:VEVENT
END:VCALENDAR
