BEGIN:VCALENDAR
VERSION:2.0
PRODID:-//nebraskakofc.org//NONSGML kigkonsult.se iCalcreator 2.30.10//
CALSCALE:GREGORIAN
METHOD:PUBLISH
UID:0e203ca7-ccfc-49f2-8ad3-196cd76ea829
X-WR-CALDESC:
X-WR-RELCALID:0958e773e8633708f54d919fface3c25
X-WR-TIMEZONE:America/Chicago
BEGIN:VTIMEZONE
TZID:America/Chicago
BEGIN:STANDARD
TZNAME:CST
DTSTART:20211107T020000
TZOFFSETFROM:-0500
TZOFFSETTO:-0600
RDATE:20221106T020000
RDATE:20231105T020000
END:STANDARD
BEGIN:DAYLIGHT
TZNAME:CDT
DTSTART:20220313T020000
TZOFFSETFROM:-0600
TZOFFSETTO:-0500
RDATE:20230312T020000
END:DAYLIGHT
END:VTIMEZONE
BEGIN:VEVENT
UID:2716a79c-f398-4004-af9e-9aa5ce1a41e9
DTSTAMP:20260422T102614Z
DESCRIPTION:
DTSTART;TZID=America/Chicago:20220901T000000
DTEND;TZID=America/Chicago:20220901T235900
LOCATION:
SUMMARY:ICC Council Activity Planner Due Date
END:VEVENT
END:VCALENDAR
