BEGIN:VCALENDAR
VERSION:2.0
PRODID:-//nebraskakofc.org//NONSGML kigkonsult.se iCalcreator 2.30.10//
CALSCALE:GREGORIAN
METHOD:PUBLISH
UID:763b349f-014d-4f13-b9aa-95990c7780af
X-WR-CALDESC:The State Soccer Challenge will take place on Saturday\, Octob
 er 28\, 2023. The event will be held at the Schuyler Field House\, which i
 s an indoor facility connected to Schuyler Middle School.\n\nRegistration 
 for the event will begin at 12:30 PM (CST) with the competition beginning 
 at 1:00PM (CST)\n\nThe Knights of Columbus Soccer Challenge is open to Boy
 s and Girls ages 9 to 14 (based on their age as of September 1\, 2023). Th
 e State Soccer Challenge is attended by the Regional Soccer Challenge winn
 ers only. You must participate in the Council\, District\, and Regional le
 vels to qualify for the State Soccer Challenge.\n\nPlease contact your loc
 al Knights of Columbus Council regarding dates and times for Council level
  competitions.\n\nIf you have any questions regarding the State Soccer Cha
 llenge\, or the Knights of Columbus Soccer Challenge in general\, please c
 ontact State Youth Chairman Tim Sealock or State Program Director Mitchell
  Lowery. You can find Mitchell's contact information along with this event
  notice.
X-WR-RELCALID:6ffdc604a1f692379b1c72d61eb06d67
X-WR-TIMEZONE:America/Chicago
BEGIN:VTIMEZONE
TZID:America/Chicago
BEGIN:STANDARD
TZNAME:CST
DTSTART:20221106T020000
TZOFFSETFROM:-0500
TZOFFSETTO:-0600
RDATE:20231105T020000
RDATE:20241103T020000
END:STANDARD
BEGIN:DAYLIGHT
TZNAME:CDT
DTSTART:20230312T020000
TZOFFSETFROM:-0600
TZOFFSETTO:-0500
RDATE:20240310T020000
RDATE:20250309T020000
END:DAYLIGHT
END:VTIMEZONE
BEGIN:VEVENT
UID:e1bb44b9-4128-49ec-94c0-368b0452d0c4
DTSTAMP:20260422T172414Z
DESCRIPTION:The State Soccer Challenge will take place on Saturday\, Octobe
 r 28\, 2023. The event will be held at the Schuyler Field House\, which is
  an indoor facility connected to Schuyler Middle School.\n\nRegistration f
 or the event will begin at 12:30 PM (CST) with the competition beginning a
 t 1:00PM (CST)\n\nThe Knights of Columbus Soccer Challenge is open to Boys
  and Girls ages 9 to 14 (based on their age as of September 1\, 2023). The
  State Soccer Challenge is attended by the Regional Soccer Challenge winne
 rs only. You must participate in the Council\, District\, and Regional lev
 els to qualify for the State Soccer Challenge.\n\nPlease contact your loca
 l Knights of Columbus Council regarding dates and times for Council level 
 competitions.\n\nIf you have any questions regarding the State Soccer Chal
 lenge\, or the Knights of Columbus Soccer Challenge in general\, please co
 ntact State Youth Chairman Tim Sealock or State Program Director Mitchell 
 Lowery. You can find Mitchell's contact information along with this event 
 notice.
DTSTART;TZID=America/Chicago:20231028T123000
DTEND;TZID=America/Chicago:20231028T150000
LOCATION:200 W 10th St.\, Schuyler\, NE 68661 US
SUMMARY:State Soccer Challenge
END:VEVENT
END:VCALENDAR
