BEGIN:VCALENDAR
VERSION:2.0
PRODID:-//nebraskakofc.org//NONSGML kigkonsult.se iCalcreator 2.30.10//
CALSCALE:GREGORIAN
METHOD:PUBLISH
UID:462a91e8-bb4b-4e90-879f-9afa581e7b7b
X-WR-CALDESC:State Banquet and Meeting of the Knights of Columbus
X-WR-RELCALID:93397029f8f842266004316263e4b166
X-WR-TIMEZONE:America/Chicago
BEGIN:VTIMEZONE
TZID:America/Chicago
BEGIN:STANDARD
TZNAME:CST
DTSTART:20251102T020000
TZOFFSETFROM:-0500
TZOFFSETTO:-0600
RDATE:20261101T020000
END:STANDARD
BEGIN:DAYLIGHT
TZNAME:CDT
DTSTART:20260308T020000
TZOFFSETFROM:-0600
TZOFFSETTO:-0500
RDATE:20270314T020000
END:DAYLIGHT
END:VTIMEZONE
BEGIN:VEVENT
UID:f25cb430-934e-4291-b901-0369206f1caf
DTSTAMP:20260425T103551Z
DESCRIPTION:State Banquet and Meeting of the Knights of Columbus
DTSTART;TZID=America/Chicago:20260424T050000
DTEND;TZID=America/Chicago:20260426T050001
LOCATION:Younes Convention Center\, 416 Talmadge St\, Kearney\, NE 68845 US
SUMMARY:State Convention
END:VEVENT
END:VCALENDAR
